BEGIN:VCALENDAR
VERSION:2.0
PRODID:-//The Vixen in McHenry - ECPv6.15.20//NONSGML v1.0//EN
CALSCALE:GREGORIAN
METHOD:PUBLISH
X-ORIGINAL-URL:https://vixenmchenry.com
X-WR-CALDESC:Events for The Vixen in McHenry
REFRESH-INTERVAL;VALUE=DURATION:PT1H
X-Robots-Tag:noindex
X-PUBLISHED-TTL:PT1H
BEGIN:VTIMEZONE
TZID:America/Chicago
BEGIN:DAYLIGHT
TZOFFSETFROM:-0600
TZOFFSETTO:-0500
TZNAME:CDT
DTSTART:20250309T080000
END:DAYLIGHT
BEGIN:STANDARD
TZOFFSETFROM:-0500
TZOFFSETTO:-0600
TZNAME:CST
DTSTART:20251102T070000
END:STANDARD
BEGIN:DAYLIGHT
TZOFFSETFROM:-0600
TZOFFSETTO:-0500
TZNAME:CDT
DTSTART:20260308T080000
END:DAYLIGHT
BEGIN:STANDARD
TZOFFSETFROM:-0500
TZOFFSETTO:-0600
TZNAME:CST
DTSTART:20261101T070000
END:STANDARD
BEGIN:DAYLIGHT
TZOFFSETFROM:-0600
TZOFFSETTO:-0500
TZNAME:CDT
DTSTART:20270314T080000
END:DAYLIGHT
BEGIN:STANDARD
TZOFFSETFROM:-0500
TZOFFSETTO:-0600
TZNAME:CST
DTSTART:20271107T070000
END:STANDARD
END:VTIMEZONE
BEGIN:VEVENT
DTSTART;TZID=America/Chicago:20260225T193000
DTEND;TZID=America/Chicago:20260225T220000
DTSTAMP:20260425T192253
CREATED:20260205T191715Z
LAST-MODIFIED:20260205T191715Z
UID:55761-1772047800-1772056800@vixenmchenry.com
SUMMARY:FREE STAND UP COMEDY NIGHT W/ SEAN DONNELLY
DESCRIPTION:FREE STAND UP COMEDY NIGHT\nHEADLINER: SEAN DONNELLYYou may have seen him on: Conan – The Tonight Show w/ Jimmy Fallon – Don’t Tell – or The Late Show w/ Stephen Colbert\nBest part – you get to come enjoy the show FOR FREE!!!!No cover – No Drink Minimums – 21+ OnlyDoors Open at 7:30PM – Showtime 8PM
URL:https://vixenmchenry.com/event/free-stand-up-comedy-night-w-sean-donnelly/
LOCATION:21+ w/ID
CATEGORIES:Entertainment
END:VEVENT
END:VCALENDAR