BEGIN:VCALENDAR
VERSION:2.0
PRODID:-//The Vixen in McHenry - ECPv6.15.20//NONSGML v1.0//EN
CALSCALE:GREGORIAN
METHOD:PUBLISH
X-WR-CALNAME:The Vixen in McHenry
X-ORIGINAL-URL:https://vixenmchenry.com
X-WR-CALDESC:Events for The Vixen in McHenry
REFRESH-INTERVAL;VALUE=DURATION:PT1H
X-Robots-Tag:noindex
X-PUBLISHED-TTL:PT1H
BEGIN:VTIMEZONE
TZID:America/Chicago
BEGIN:DAYLIGHT
TZOFFSETFROM:-0600
TZOFFSETTO:-0500
TZNAME:CDT
DTSTART:20250309T080000
END:DAYLIGHT
BEGIN:STANDARD
TZOFFSETFROM:-0500
TZOFFSETTO:-0600
TZNAME:CST
DTSTART:20251102T070000
END:STANDARD
BEGIN:DAYLIGHT
TZOFFSETFROM:-0600
TZOFFSETTO:-0500
TZNAME:CDT
DTSTART:20260308T080000
END:DAYLIGHT
BEGIN:STANDARD
TZOFFSETFROM:-0500
TZOFFSETTO:-0600
TZNAME:CST
DTSTART:20261101T070000
END:STANDARD
BEGIN:DAYLIGHT
TZOFFSETFROM:-0600
TZOFFSETTO:-0500
TZNAME:CDT
DTSTART:20270314T080000
END:DAYLIGHT
BEGIN:STANDARD
TZOFFSETFROM:-0500
TZOFFSETTO:-0600
TZNAME:CST
DTSTART:20271107T070000
END:STANDARD
END:VTIMEZONE
BEGIN:VEVENT
DTSTART;TZID=America/Chicago:20260227T193000
DTEND;TZID=America/Chicago:20260228T220000
DTSTAMP:20260425T192050
CREATED:20260219T171902Z
LAST-MODIFIED:20260218T172413Z
UID:55838-1772220600-1772316000@vixenmchenry.com
SUMMARY:FRIDAY NIGHT STAND UP COMEDY - MUSICAL EDITION
DESCRIPTION:FRIDAY NIGHT STAND UP COMEDY – MUSICAL EDITION\nFRIDAY\, FEBRUARY 27TH\nDOORS OPEN AT 7:30PM\nSHOW STARTS AT 8PM\n21+ W/ID\nTICKETS: $5 AT THE DOOR / NO ONLINE TICKET SALES \nFEATURING:\nSTEVE HAAS (ON PIANO)\nJAMIE SHRINER (ON VOCALS)\nANTONIO QUINTANA (OUR HOST)\nHUNTER HIRSH (ON GUITAR
URL:https://vixenmchenry.com/event/friday-night-stand-up-comedy-musical-edition/
LOCATION:21+ w/ID
CATEGORIES:Entertainment
END:VEVENT
BEGIN:VEVENT
DTSTART;TZID=America/Chicago:20260227T223000
DTEND;TZID=America/Chicago:20260228T020000
DTSTAMP:20260425T192050
CREATED:20260128T191022Z
LAST-MODIFIED:20260128T191022Z
UID:55691-1772231400-1772244000@vixenmchenry.com
SUMMARY:DJ NEIV - FEBRUARY 27TH
DESCRIPTION:DJ NEIV\nFRIDAY\, FEBRUARY 27TH\n10:30PM – 2AM\nNO COVER\n21+ ONLY W/ID\n**BE SURE TO CHECK OUT OUR SELFIE BOOTH!
URL:https://vixenmchenry.com/event/dj-neiv-february-27th/
LOCATION:21+ w/ID
CATEGORIES:DJ
END:VEVENT
END:VCALENDAR