BEGIN:VCALENDAR
VERSION:2.0
PRODID:-//The Vixen in McHenry - ECPv6.15.20//NONSGML v1.0//EN
CALSCALE:GREGORIAN
METHOD:PUBLISH
X-ORIGINAL-URL:https://vixenmchenry.com
X-WR-CALDESC:Events for The Vixen in McHenry
REFRESH-INTERVAL;VALUE=DURATION:PT1H
X-Robots-Tag:noindex
X-PUBLISHED-TTL:PT1H
BEGIN:VTIMEZONE
TZID:America/Chicago
BEGIN:DAYLIGHT
TZOFFSETFROM:-0600
TZOFFSETTO:-0500
TZNAME:CDT
DTSTART:20250309T080000
END:DAYLIGHT
BEGIN:STANDARD
TZOFFSETFROM:-0500
TZOFFSETTO:-0600
TZNAME:CST
DTSTART:20251102T070000
END:STANDARD
BEGIN:DAYLIGHT
TZOFFSETFROM:-0600
TZOFFSETTO:-0500
TZNAME:CDT
DTSTART:20260308T080000
END:DAYLIGHT
BEGIN:STANDARD
TZOFFSETFROM:-0500
TZOFFSETTO:-0600
TZNAME:CST
DTSTART:20261101T070000
END:STANDARD
BEGIN:DAYLIGHT
TZOFFSETFROM:-0600
TZOFFSETTO:-0500
TZNAME:CDT
DTSTART:20270314T080000
END:DAYLIGHT
BEGIN:STANDARD
TZOFFSETFROM:-0500
TZOFFSETTO:-0600
TZNAME:CST
DTSTART:20271107T070000
END:STANDARD
END:VTIMEZONE
BEGIN:VEVENT
DTSTART;TZID=America/Chicago:20260417T190000
DTEND;TZID=America/Chicago:20260417T223000
DTSTAMP:20260425T192152
CREATED:20260331T204710Z
LAST-MODIFIED:20260331T204710Z
UID:56010-1776452400-1776465000@vixenmchenry.com
SUMMARY:ROK BRIGADE PRESENTS... BACK TO THE 80'S
DESCRIPTION:ROK BRIGADE PRESENTS… BACK TO THE 80’S\nFRIDAY\, APRIL 17TH\nDOORS OPEN AT 7PM\nALL AGES SHOW\nTICKETS: \nVIP Club Members Presale: Wed Apr 1 @ 10am\nPublic Sale: Thur Apr 2 @ 10am
URL:https://vixenmchenry.com/event/rokbrigade/
LOCATION:All Ages w/Guardian
CATEGORIES:Entertainment
ATTACH;FMTTYPE=image/png:https://vixenmchenry.com/wp-content/uploads/2026/03/4-17-26-BACK-TO-THE-80S-WEB-.png
END:VEVENT
BEGIN:VEVENT
DTSTART;TZID=America/Chicago:20260417T223000
DTEND;TZID=America/Chicago:20260418T020000
DTSTAMP:20260425T192152
CREATED:20260402T182531Z
LAST-MODIFIED:20260402T182548Z
UID:56039-1776465000-1776477600@vixenmchenry.com
SUMMARY:DJ REIGN
DESCRIPTION:DJ REIGN\nFRIDAY\, APRIL 17TH\n10:30PM – 2AM\nMUST BE 21+
URL:https://vixenmchenry.com/event/dr-reign/
LOCATION:21+ w/ID
CATEGORIES:DJ
ATTACH;FMTTYPE=image/png:https://vixenmchenry.com/wp-content/uploads/2026/04/4.png
END:VEVENT
END:VCALENDAR