BEGIN:VCALENDAR
VERSION:2.0
PRODID:-//The Vixen in McHenry - ECPv6.15.20//NONSGML v1.0//EN
CALSCALE:GREGORIAN
METHOD:PUBLISH
X-WR-CALNAME:The Vixen in McHenry
X-ORIGINAL-URL:https://vixenmchenry.com
X-WR-CALDESC:Events for The Vixen in McHenry
REFRESH-INTERVAL;VALUE=DURATION:PT1H
X-Robots-Tag:noindex
X-PUBLISHED-TTL:PT1H
BEGIN:VTIMEZONE
TZID:America/Chicago
BEGIN:DAYLIGHT
TZOFFSETFROM:-0600
TZOFFSETTO:-0500
TZNAME:CDT
DTSTART:20250309T080000
END:DAYLIGHT
BEGIN:STANDARD
TZOFFSETFROM:-0500
TZOFFSETTO:-0600
TZNAME:CST
DTSTART:20251102T070000
END:STANDARD
BEGIN:DAYLIGHT
TZOFFSETFROM:-0600
TZOFFSETTO:-0500
TZNAME:CDT
DTSTART:20260308T080000
END:DAYLIGHT
BEGIN:STANDARD
TZOFFSETFROM:-0500
TZOFFSETTO:-0600
TZNAME:CST
DTSTART:20261101T070000
END:STANDARD
BEGIN:DAYLIGHT
TZOFFSETFROM:-0600
TZOFFSETTO:-0500
TZNAME:CDT
DTSTART:20270314T080000
END:DAYLIGHT
BEGIN:STANDARD
TZOFFSETFROM:-0500
TZOFFSETTO:-0600
TZNAME:CST
DTSTART:20271107T070000
END:STANDARD
END:VTIMEZONE
BEGIN:VEVENT
DTSTART;TZID=America/Chicago:20260417T223000
DTEND;TZID=America/Chicago:20260418T020000
DTSTAMP:20260425T174318
CREATED:20260402T182531Z
LAST-MODIFIED:20260402T182548Z
UID:56039-1776465000-1776477600@vixenmchenry.com
SUMMARY:DJ REIGN
DESCRIPTION:DJ REIGN\nFRIDAY\, APRIL 17TH\n10:30PM – 2AM\nMUST BE 21+
URL:https://vixenmchenry.com/event/dr-reign/
LOCATION:21+ w/ID
CATEGORIES:DJ
ATTACH;FMTTYPE=image/png:https://vixenmchenry.com/wp-content/uploads/2026/04/4.png
END:VEVENT
BEGIN:VEVENT
DTSTART;TZID=America/Chicago:20260418T190000
DTEND;TZID=America/Chicago:20260418T223000
DTSTAMP:20260425T174318
CREATED:20260204T000030Z
LAST-MODIFIED:20260204T194042Z
UID:55736-1776538800-1776551400@vixenmchenry.com
SUMMARY:AMERICA'S AC / DC TRIBUTE - THUNDERSTRUCK W/ SPECIAL GUESTS: SIIN
DESCRIPTION:AMERICA’S AC / DC TRIBUTE – THUNDERSTRUCK\nW/ SPECIAL GUESTS: SIIN\nSATURDAY\, APRIL 18TH\nDOORS OPEN AT 7PM\nALL AGES SHOW\n \nThunderstruck: America’s AC/DC Tribute gives fans so much more than the sound of AC/DC\, they truly capture the high voltage energy and experience!  For fans\, it’s about a sense of familiarity\, and it’s about a feeling that snatches up listeners and takes over.  It’s about a contagious kind of power and electricity that few AC/DC tribute bands can provide.  From Kyle LaPato’s strong on-stage performance replicating Angus Young\, to Bobby Lee Stamper’s versatile vocals mimicking both Bon Scott and Brian Johnson ranges. Then you have the incredible rhythm section made up of Kevin Feller on rhythm guitar\, Corey Baetz on drums\, and Chris Jones on bass. They provide the groove and the swing to keep you shakin’ all night long. “Thunderstruck” gives a complete\, and consistent quality live show every time\, and they always showcase “The Spirit of AC/DC”. \n \nSIIN:  Hailing from the Midwest\, SIIN is known for their stage presence and high energy brand of rock. Described as having a “modern throwback sound\,” they have deservedly established themselves as a fan favorite. The infectious energy of these veteran musicians exudes from the stage during every performance\, and they consistently leave crowds begging for more.  Always giving all they’ve got\, their reputation to deliver a dynamic\, hard core show has made SIIN an unquestionable staple in the rock scene. EST.1990
URL:https://vixenmchenry.com/event/thunderstruck/
LOCATION:All Ages w/Guardian
CATEGORIES:Entertainment
ATTACH;FMTTYPE=image/png:https://vixenmchenry.com/wp-content/uploads/2026/01/thunderstruck-web.png
END:VEVENT
BEGIN:VEVENT
DTSTART;TZID=America/Chicago:20260418T223000
DTEND;TZID=America/Chicago:20260419T020000
DTSTAMP:20260425T174318
CREATED:20260402T182645Z
LAST-MODIFIED:20260402T182645Z
UID:56042-1776551400-1776564000@vixenmchenry.com
SUMMARY:DJ LG
DESCRIPTION:DJ LG\nSATURDAY\, APRIL 18TH\n10:30PM – 2AM\nMUST BE 21+
URL:https://vixenmchenry.com/event/dj-lg/
LOCATION:21+ w/ID
CATEGORIES:DJ
ATTACH;FMTTYPE=image/png:https://vixenmchenry.com/wp-content/uploads/2026/04/2.png
END:VEVENT
END:VCALENDAR