BEGIN:VCALENDAR
VERSION:2.0
PRODID:-//The Vixen in McHenry - ECPv6.15.20//NONSGML v1.0//EN
CALSCALE:GREGORIAN
METHOD:PUBLISH
X-WR-CALNAME:The Vixen in McHenry
X-ORIGINAL-URL:https://vixenmchenry.com
X-WR-CALDESC:Events for The Vixen in McHenry
REFRESH-INTERVAL;VALUE=DURATION:PT1H
X-Robots-Tag:noindex
X-PUBLISHED-TTL:PT1H
BEGIN:VTIMEZONE
TZID:America/Chicago
BEGIN:DAYLIGHT
TZOFFSETFROM:-0600
TZOFFSETTO:-0500
TZNAME:CDT
DTSTART:20250309T080000
END:DAYLIGHT
BEGIN:STANDARD
TZOFFSETFROM:-0500
TZOFFSETTO:-0600
TZNAME:CST
DTSTART:20251102T070000
END:STANDARD
BEGIN:DAYLIGHT
TZOFFSETFROM:-0600
TZOFFSETTO:-0500
TZNAME:CDT
DTSTART:20260308T080000
END:DAYLIGHT
BEGIN:STANDARD
TZOFFSETFROM:-0500
TZOFFSETTO:-0600
TZNAME:CST
DTSTART:20261101T070000
END:STANDARD
BEGIN:DAYLIGHT
TZOFFSETFROM:-0600
TZOFFSETTO:-0500
TZNAME:CDT
DTSTART:20270314T080000
END:DAYLIGHT
BEGIN:STANDARD
TZOFFSETFROM:-0500
TZOFFSETTO:-0600
TZNAME:CST
DTSTART:20271107T070000
END:STANDARD
END:VTIMEZONE
BEGIN:VEVENT
DTSTART;TZID=America/Chicago:20260424T223000
DTEND;TZID=America/Chicago:20260425T020000
DTSTAMP:20260425T172742
CREATED:20260402T182833Z
LAST-MODIFIED:20260408T170051Z
UID:56045-1777069800-1777082400@vixenmchenry.com
SUMMARY:DJ MESSES
DESCRIPTION:DJ MESSES\nFRIDAY\, APRIL 24TH\n10:30PM – 2AM\nMUST BE 21+
URL:https://vixenmchenry.com/event/dj-messes/
LOCATION:21+ w/ID
CATEGORIES:DJ
ATTACH;FMTTYPE=image/png:https://vixenmchenry.com/wp-content/uploads/2026/04/APRIL-DJS-1.png
END:VEVENT
BEGIN:VEVENT
DTSTART;TZID=America/Chicago:20260425T190000
DTEND;TZID=America/Chicago:20260425T223000
DTSTAMP:20260425T172742
CREATED:20260304T235909Z
LAST-MODIFIED:20260307T173642Z
UID:55894-1777143600-1777156200@vixenmchenry.com
SUMMARY:THE SUPERTRAMP TRIBUTE
DESCRIPTION:THE SUPERTRAMP TRIBUTE\nSATURDAY\, APRIL 25TH\nDOORS OPEN AT 7PM\nSEATED SHOW\nTICKETS: \nVIP Club Members Presale Thurs March 5th @ 10am\nPublic Sale Fri March 6th @ 10am
URL:https://vixenmchenry.com/event/the-supertramp-tribute/
LOCATION:All Ages w/Guardian
CATEGORIES:Entertainment
ATTACH;FMTTYPE=image/png:https://vixenmchenry.com/wp-content/uploads/2026/03/4.2.26-Supertramp-Tribute-web.png
END:VEVENT
BEGIN:VEVENT
DTSTART;TZID=America/Chicago:20260425T223000
DTEND;TZID=America/Chicago:20260426T020000
DTSTAMP:20260425T172742
CREATED:20260402T183020Z
LAST-MODIFIED:20260402T183020Z
UID:56048-1777156200-1777168800@vixenmchenry.com
SUMMARY:DJ TEKNIK
DESCRIPTION:DJ TEKNIK\nSATURDAY\, APRIL 25TH\n10:30PM – 2AM\nMUST BE 21+
URL:https://vixenmchenry.com/event/dj-teknik-2/
LOCATION:21+ w/ID
CATEGORIES:DJ
ATTACH;FMTTYPE=image/png:https://vixenmchenry.com/wp-content/uploads/2026/04/8.png
END:VEVENT
END:VCALENDAR