BEGIN:VCALENDAR
VERSION:2.0
PRODID:-//The Vixen in McHenry - ECPv6.15.20//NONSGML v1.0//EN
CALSCALE:GREGORIAN
METHOD:PUBLISH
X-ORIGINAL-URL:https://vixenmchenry.com
X-WR-CALDESC:Events for The Vixen in McHenry
REFRESH-INTERVAL;VALUE=DURATION:PT1H
X-Robots-Tag:noindex
X-PUBLISHED-TTL:PT1H
BEGIN:VTIMEZONE
TZID:America/Chicago
BEGIN:DAYLIGHT
TZOFFSETFROM:-0600
TZOFFSETTO:-0500
TZNAME:CDT
DTSTART:20250309T080000
END:DAYLIGHT
BEGIN:STANDARD
TZOFFSETFROM:-0500
TZOFFSETTO:-0600
TZNAME:CST
DTSTART:20251102T070000
END:STANDARD
BEGIN:DAYLIGHT
TZOFFSETFROM:-0600
TZOFFSETTO:-0500
TZNAME:CDT
DTSTART:20260308T080000
END:DAYLIGHT
BEGIN:STANDARD
TZOFFSETFROM:-0500
TZOFFSETTO:-0600
TZNAME:CST
DTSTART:20261101T070000
END:STANDARD
BEGIN:DAYLIGHT
TZOFFSETFROM:-0600
TZOFFSETTO:-0500
TZNAME:CDT
DTSTART:20270314T080000
END:DAYLIGHT
BEGIN:STANDARD
TZOFFSETFROM:-0500
TZOFFSETTO:-0600
TZNAME:CST
DTSTART:20271107T070000
END:STANDARD
END:VTIMEZONE
BEGIN:VEVENT
DTSTART;TZID=America/Chicago:20260429T193000
DTEND;TZID=America/Chicago:20260429T220000
DTSTAMP:20260425T174454
CREATED:20260330T140532Z
LAST-MODIFIED:20260330T140532Z
UID:55994-1777491000-1777500000@vixenmchenry.com
SUMMARY:FREE STAND UP COMEDY NIGHT FEATURING: 𝐓𝐘𝐋𝐄𝐑 𝐇𝐎𝐑𝐕𝐀𝐓𝐇
DESCRIPTION:FREE STAND UP COMEDY NIGHT\nFEATURING: 𝐓𝐘𝐋𝐄𝐑 𝐇𝐎𝐑𝐕𝐀𝐓𝐇\nYou may have seen him on: Flyover\, Comedy Festival\, New York Comedy Club \n🗓️ Wednesday\, April 29TH\n⏰ Doors Open at 7:30pm – Show starts at 8:00PM\nNO TICKETS NEEDED \n21+ Only\nTables are first come first served
URL:https://vixenmchenry.com/event/free-stand-up-comedy-night-featuring-%f0%9d%90%93%f0%9d%90%98%f0%9d%90%8b%f0%9d%90%84%f0%9d%90%91-%f0%9d%90%87%f0%9d%90%8e%f0%9d%90%91%f0%9d%90%95%f0%9d%90%80%f0%9d%90%93%f0%9d%90%87/
LOCATION:21+ w/ID
CATEGORIES:Entertainment
ATTACH;FMTTYPE=image/png:https://vixenmchenry.com/wp-content/uploads/2026/03/APRIL-29.png
END:VEVENT
END:VCALENDAR