BEGIN:VCALENDAR
VERSION:2.0
PRODID:-//The Vixen in McHenry - ECPv6.15.20//NONSGML v1.0//EN
CALSCALE:GREGORIAN
METHOD:PUBLISH
X-WR-CALNAME:The Vixen in McHenry
X-ORIGINAL-URL:https://vixenmchenry.com
X-WR-CALDESC:Events for The Vixen in McHenry
REFRESH-INTERVAL;VALUE=DURATION:PT1H
X-Robots-Tag:noindex
X-PUBLISHED-TTL:PT1H
BEGIN:VTIMEZONE
TZID:America/Chicago
BEGIN:DAYLIGHT
TZOFFSETFROM:-0600
TZOFFSETTO:-0500
TZNAME:CDT
DTSTART:20250309T080000
END:DAYLIGHT
BEGIN:STANDARD
TZOFFSETFROM:-0500
TZOFFSETTO:-0600
TZNAME:CST
DTSTART:20251102T070000
END:STANDARD
BEGIN:DAYLIGHT
TZOFFSETFROM:-0600
TZOFFSETTO:-0500
TZNAME:CDT
DTSTART:20260308T080000
END:DAYLIGHT
BEGIN:STANDARD
TZOFFSETFROM:-0500
TZOFFSETTO:-0600
TZNAME:CST
DTSTART:20261101T070000
END:STANDARD
BEGIN:DAYLIGHT
TZOFFSETFROM:-0600
TZOFFSETTO:-0500
TZNAME:CDT
DTSTART:20270314T080000
END:DAYLIGHT
BEGIN:STANDARD
TZOFFSETFROM:-0500
TZOFFSETTO:-0600
TZNAME:CST
DTSTART:20271107T070000
END:STANDARD
END:VTIMEZONE
BEGIN:VEVENT
DTSTART;TZID=America/Chicago:20260516T190000
DTEND;TZID=America/Chicago:20260516T223000
DTSTAMP:20260425T205747
CREATED:20260312T200020Z
LAST-MODIFIED:20260313T022149Z
UID:55923-1778958000-1778970600@vixenmchenry.com
SUMMARY:JAGGED LITTLE PILL - THE ALANIS TRIBUTE
DESCRIPTION:JAGGED LITTLE PILL – THE ALANIS TRIBUTE\nSATURDAY\, MAY 16TH\nDOORS OPEN AT 7:30PM\nALL AGES SHOW\nTICKETS: \nVIP Club Presale: Fri Mar 13 @ 10am\nPublic Sale: Sat Mar 14 @ 10am \n \n \n \n 
URL:https://vixenmchenry.com/event/jagged-little-pill/
LOCATION:All Ages w/Guardian
CATEGORIES:Entertainment
ATTACH;FMTTYPE=image/png:https://vixenmchenry.com/wp-content/uploads/2026/03/jagged-little-pill-web-1.png
END:VEVENT
END:VCALENDAR