BEGIN:VCALENDAR
VERSION:2.0
PRODID:-//The Vixen in McHenry - ECPv6.15.20//NONSGML v1.0//EN
CALSCALE:GREGORIAN
METHOD:PUBLISH
X-WR-CALNAME:The Vixen in McHenry
X-ORIGINAL-URL:https://vixenmchenry.com
X-WR-CALDESC:Events for The Vixen in McHenry
REFRESH-INTERVAL;VALUE=DURATION:PT1H
X-Robots-Tag:noindex
X-PUBLISHED-TTL:PT1H
BEGIN:VTIMEZONE
TZID:America/Chicago
BEGIN:DAYLIGHT
TZOFFSETFROM:-0600
TZOFFSETTO:-0500
TZNAME:CDT
DTSTART:20250309T080000
END:DAYLIGHT
BEGIN:STANDARD
TZOFFSETFROM:-0500
TZOFFSETTO:-0600
TZNAME:CST
DTSTART:20251102T070000
END:STANDARD
BEGIN:DAYLIGHT
TZOFFSETFROM:-0600
TZOFFSETTO:-0500
TZNAME:CDT
DTSTART:20260308T080000
END:DAYLIGHT
BEGIN:STANDARD
TZOFFSETFROM:-0500
TZOFFSETTO:-0600
TZNAME:CST
DTSTART:20261101T070000
END:STANDARD
BEGIN:DAYLIGHT
TZOFFSETFROM:-0600
TZOFFSETTO:-0500
TZNAME:CDT
DTSTART:20270314T080000
END:DAYLIGHT
BEGIN:STANDARD
TZOFFSETFROM:-0500
TZOFFSETTO:-0600
TZNAME:CST
DTSTART:20271107T070000
END:STANDARD
END:VTIMEZONE
BEGIN:VEVENT
DTSTART;TZID=America/Chicago:20260501T190000
DTEND;TZID=America/Chicago:20260501T223000
DTSTAMP:20260425T193111
CREATED:20260424T205900Z
LAST-MODIFIED:20260424T205900Z
UID:56090-1777662000-1777674600@vixenmchenry.com
SUMMARY:FREE SHOW - WILDWOOD COUNTRY
DESCRIPTION:WILDWOOD COUNTRY\nFRIDAY\, MAY 1ST\nDOORS OPEN AT 7PM\nALL AGES SHOW\nFREE SHOW – NO TICKETS NEEDED \nWildwood Country is Chicagolands Line-Dance Band – Playing the best of Country music! 
URL:https://vixenmchenry.com/event/wildwood-country/
LOCATION:All Ages w/Guardian
CATEGORIES:Entertainment
ATTACH;FMTTYPE=image/png:https://vixenmchenry.com/wp-content/uploads/2026/04/5-9-26-WILDWOOD-COUNTRY-web.png
END:VEVENT
BEGIN:VEVENT
DTSTART;TZID=America/Chicago:20260502T190000
DTEND;TZID=America/Chicago:20260502T223000
DTSTAMP:20260425T193111
CREATED:20260209T172022Z
LAST-MODIFIED:20260209T173653Z
UID:55773-1777748400-1777761000@vixenmchenry.com
SUMMARY:PINK FLOYD TRIBUTE - ECHOES OF POMPEII
DESCRIPTION:PINK FLOYD TRIBUTE – ECHOES OF POMPEII\nSATURDAY\, MAY 2ND\nDOORS OPEN AT 7PM\nALL AGES SHOW\nTICKETS:\nVIP Club Pre-Sale Tues Feb 10 @ 10am\nPublic Sale Wed Feb 11 @ 10am \n \nAbout Echoes of Pompeii\nEchoes of Pompeii is comprised of a 11 piece band (orchestra) to give fans the true sound of a Pink Floyd concert. From synthesizers\, delayed vocals\, slide guitars and female back up singers\, we leave no stone unturned\, when it comes to our sound. We will grab you with our state of the art visuals such as lasers\, lights\, video\, and iconic images that Pink Floyd was well known to produce. We play all eras of Pink Floyd from the early Syd Barrett days\, to the later exclusion of the Roger Waters era\, and everything in between. So let us take you back in time when we were all young and listening to the best music and making the best memories.   As Vera Lynn once sang\, “We’ll meet again\, Don’t know where\, don’t know when\, But I know we’ll meet again some sunny day”\n \n  \n \n 
URL:https://vixenmchenry.com/event/echoes-of-pompeii/
LOCATION:All Ages w/Guardian
CATEGORIES:Entertainment
ATTACH;FMTTYPE=image/png:https://vixenmchenry.com/wp-content/uploads/2026/02/5.2.26-Echoes-of-Pomeii-WEB.png
END:VEVENT
BEGIN:VEVENT
DTSTART;TZID=America/Chicago:20260506T073000
DTEND;TZID=America/Chicago:20260506T220000
DTSTAMP:20260425T193111
CREATED:20260424T212434Z
LAST-MODIFIED:20260424T212434Z
UID:56097-1778052600-1778104800@vixenmchenry.com
SUMMARY:FREE STAND UP COMEDY NIGHT FEATURING CHRIS TRANI
DESCRIPTION:FREE STAND UP COMEDY NIGHT\nFEATURING: CHRIS TRANI\nYou may have seen him at Zanies\, Laugh Factory\, or the Comedy Bar \n🗓️ Wednesday\, May 6th\n⏰ Doors Open at 7:30pm – Show starts at 8:00PM\nNO TICKETS NEEDED\n21+ Only\nTables are first come first served
URL:https://vixenmchenry.com/event/free-stand-up-comedy-night-featuring-chris-trani/
LOCATION:21+ w/ID
CATEGORIES:Entertainment
ATTACH;FMTTYPE=image/png:https://vixenmchenry.com/wp-content/uploads/2026/04/May-6.png
END:VEVENT
BEGIN:VEVENT
DTSTART;TZID=America/Chicago:20260508T173000
DTEND;TZID=America/Chicago:20260508T220000
DTSTAMP:20260425T193111
CREATED:20260126T175551Z
LAST-MODIFIED:20260203T152641Z
UID:55650-1778261400-1778277600@vixenmchenry.com
SUMMARY:SOLD OUT - BINGO LOCO is BACK!!!
DESCRIPTION:BINGO LOCO is BACK!\nFRIDAY\, MAY 8THDOORS OPEN AT 5:30PMGAMES START AT 7PMMUST BE 21+ W/ ID\n\nTICKETS:SOLD OUT! \n**There are not assigned seats for this event\, so please arrive early. You are welcome to bring food into the venue (no beverages.) \n\nIf you are bringing a large group\, please contact us ahead of time so we can make accomodations to keep your group together.\nGrand Prize of the night is a trip for 2 to Las Vegas!\nVIP Club Members get early access to tickets and early access to the venue to select seats.
URL:https://vixenmchenry.com/event/bingo-loco-is-back/
LOCATION:21+ w/ID
CATEGORIES:Entertainment
ATTACH;FMTTYPE=image/png:https://vixenmchenry.com/wp-content/uploads/2026/01/bingo-loco-web-2.png
END:VEVENT
BEGIN:VEVENT
DTSTART;TZID=America/Chicago:20260509T180000
DTEND;TZID=America/Chicago:20260509T223000
DTSTAMP:20260425T193111
CREATED:20260424T203641Z
LAST-MODIFIED:20260424T203641Z
UID:56088-1778349600-1778365800@vixenmchenry.com
SUMMARY:JEFF CURRAN INVITATIONAL
DESCRIPTION:JEFF CURRAN INVITATIONAL\nSATURDAY\, MAY 9TH\nTICKETS AVAILABLE AT: https://jcinvitational.com/ \n 
URL:https://vixenmchenry.com/event/jeff-curran-invitational/
LOCATION:All Ages w/Guardian
CATEGORIES:Entertainment
ATTACH;FMTTYPE=image/png:https://vixenmchenry.com/wp-content/uploads/2026/04/Vixen-graphic-may-9-2026.png
END:VEVENT
BEGIN:VEVENT
DTSTART;TZID=America/Chicago:20260512T190000
DTEND;TZID=America/Chicago:20260512T223000
DTSTAMP:20260425T193111
CREATED:20260202T175542Z
LAST-MODIFIED:20260224T185425Z
UID:55726-1778612400-1778625000@vixenmchenry.com
SUMMARY:CKY W/ SPECIAL GUESTS: THE BAD EXCUSES
DESCRIPTION:CKY\nW/ SPECIAL GUEST: THE BAD EXCUSES\nTUESDAY\, MAY 12TH\nDOORS OPEN AT 7PM\nALL AGES SHOW\nTICKETS:\nVIP Club Members Pre-Sale Tues Feb 3rd @ 10am\nPublic Sale Wed Feb 4th @ 10am
URL:https://vixenmchenry.com/event/cky/
LOCATION:All Ages w/Guardian
CATEGORIES:Entertainment
ATTACH;FMTTYPE=image/png:https://vixenmchenry.com/wp-content/uploads/2026/02/5-12-26-CKY-2.png
END:VEVENT
BEGIN:VEVENT
DTSTART;TZID=America/Chicago:20260513T190000
DTEND;TZID=America/Chicago:20260513T223000
DTSTAMP:20260425T193111
CREATED:20260217T175524Z
LAST-MODIFIED:20260323T204307Z
UID:55815-1778698800-1778711400@vixenmchenry.com
SUMMARY:JOHN CORABI & FRIENDS W/SPECIAL GUESTS: THE MIDNIGHT CALLS
DESCRIPTION:JOHN CORABI\nW/ SPECIAL GUESTS: THE MIDNIGHT CALLS\nWEDNESDAY\, MAY 13TH\nDOORS OPEN AT 7PM\nALL AGES SHOW\nTICKETS: \nVIP Club Presale: Wed Feb 18 @ 10am\nPublic Sale: Thurs Feb 19 @10am \n \n\n\nJOHN CORABI & FRIENDS: John Corabi the former singer/songwriter of The Scream\, Mötley Crüe\, and current singer of The Dead Daisies\, has joined forces with some of his seasoned longtime friends to help play an assortment of songs from his past and current catalogue spanning 35 years. Joining John onstage for his “New Day 2025-26 tour” are … \n\n\nPaul Taylor (keyboards/guitar/vocals) a founding member of Winger\, as well as Alice Cooper\, Steve Perry\, and Eric Martin. Paul lent his keyboard talents to several of the songs on John’s new record “New Day\,” and volunteered to come join on stage. \nJeremy Asbrock (lead guitar/vocals) Jeremy has toured with John during the “Live 94 tour” in 2014-15\, and also played for The Gene Simmons band\, as well as Ace Frehley for the last few years. So having Jeremy back on the guitar\, and vocals\, was John’s first choice and makes perfect sense. \n\n\nMichael Devin (bass/vocals) John has known Michael for 20+ years\, and also has the pleasure of sharing stages with him in The Dead Daisies. Michael spent a dozen years touring and recording with David Coverdale’s Whitesnake\, and now lends his bass and vocal talents to John’s live shows \n\n\nTroy Luccketta (drums) At the suggestion of Michael Devin\, John phoned Troy of Tesla\, Keith Emerson\, Eric Martin fame\, and asked if he’d be interested in touring with this new lineup. After hearing the “New Day” record\, Troy jumped in with both feet and has become the emotional driving force as well as the backbone of the songs live. \n\n\nMarti Frederiksen (guitar/vocals/percussion) Marti is a world renowned producer/songwriter/guitarist/ and vocalist\, and has been the creative weapon for The Dead Daisies albums “Make Some Noise\,” “Burn It Down\,” and “Light Em’ Up.” He is the lead vocalist of the fictitious Stillwater band in the movie “Almost Famous\,” as well as a cowriter for the song “Jaded\,” with Aerosmith. Marti has written/produced bands like Gavin Rossdale\, Mötley Crüe\, Ozzy Osbourne\, Def Leppard\, as well as country artists Faith Hill and Carrie Underwood. As well as playing with John live\, Marti cowrote and produced all of the songs on John’s record “New Day” \n\n\nAs you can see “John Corabi and Friends” has got a long pedigree in the music industry\, and the guys are excited to get out on stages and perform around the world. Currently in rehearsals things are sounding great\, and they’re looking forward to get to a venue near you soon!!!
URL:https://vixenmchenry.com/event/john-corabi/
LOCATION:All Ages w/Guardian
CATEGORIES:Entertainment
ATTACH;FMTTYPE=image/png:https://vixenmchenry.com/wp-content/uploads/2026/02/JOHN-CORABI-WEB-2.png
END:VEVENT
BEGIN:VEVENT
DTSTART;TZID=America/Chicago:20260515T180000
DTEND;TZID=America/Chicago:20260515T203000
DTSTAMP:20260425T193111
CREATED:20251209T135505Z
LAST-MODIFIED:20260423T212753Z
UID:55356-1778868000-1778877000@vixenmchenry.com
SUMMARY:JOSH WOLF - 7PM PERFORMANCE
DESCRIPTION:JOSH WOLF\nFRIDAY\, MAY 15TH\nDOORS OPEN AT 6:00PM\nALL AGES SHOW\n** THE FLOOR TABLES – FIRST & SECOND ROW – WILL INCLUDE A POST-SHOW “MEET & GREET” WITH JOSH! \nTICKETS:\nVIP Club Presale: Tue. Dec 9th @ Noon\nPublic Sale: Wed. Dec 10th @ 10am \n \nJosh Wolf is a stand-up comedian\, writer\, actor\, and New York Times best-selling author whohas been entertaining audiences both on stage and on screen for over three decades. Wolf’s comedy roots trace back to Boston and Seattle\, eventually leading him to open for the likes o findustry pillars such as Larry the Cable Guy and Chelsea Handler to name a few. After years of touring\, writing\, and performing\, Josh has established himself as one of the most respected comedians in the industry\, continuing to headline sold-out theaters across North America\, Australia\, New Zealand\, and Europe. \nWolf gained widespread acclaim as a comedian and panelist on the hit show ‘Chelsea Lately’and as a mainstay performer on ‘After Lately’. He has since created\, written\, produced\, and hosted shows like ‘The Josh Wolf Show’ and ‘Josh Wolf’s Wonderful World of Weird’. As a podcaster\, Josh co-hosts the hit podcast “Hey Maaan” alongside his son\, Jacob Wolf. The podcast is one of the only father-son collaborations in comedy\, offering a unique perspective on family dynamics\, life on the road\, and trending topics. \nWolf has also written and acted on hit shows like ‘My Name is Earl’\, ‘All of Us’\, and ‘RaisingHope’. He was a regular panelist on the acclaimed comedy program ‘Lights Out with David Spade’ and has made numerous guest appearances on legendary programs such as ‘The Late Late Show with Craig Ferguson’. \nAs an author\, Wolf penned the 2013 New York Times best-seller ‘It Takes Balls: Dating Single Moms and Other Confessions from an Unprepared Single Dad’. Fresh off the heels of his “High On Life Tour”\, Wolf rolled out his most recent special\, “The Campfire Special” which blends music and comedy and features an array of special guests. The special marked his fourth special in the past six years\, further solidifying his prolific career and rabid fanbase. Wolf wrapped “Campfire Tour” hitting dozens of cities across the United Statesb efore embarking with a brand new hour in 2026 which sees him touring internationally through the end of the year. In addition to touring\, Wolf has a weekly residency at Jimmy Kimmel’s Comedy Club in Las Vegas where he performs every Sunday and Monday night to a packed house. \nLeveraging his strong presence on social media and YouTube\, Wolf has amassed over 7.4 million followers across platforms and more than 280 million views on his YouTube channel alone\, continuing to further expand his reach and deepen his connection with fans.
URL:https://vixenmchenry.com/event/josh-wolf-7pm-performance/
LOCATION:All Ages w/Guardian
CATEGORIES:Entertainment
ATTACH;FMTTYPE=image/png:https://vixenmchenry.com/wp-content/uploads/2025/12/JOSH-WOLF-2-web-1.png
END:VEVENT
BEGIN:VEVENT
DTSTART;TZID=America/Chicago:20260515T204500
DTEND;TZID=America/Chicago:20260515T223000
DTSTAMP:20260425T193111
CREATED:20260408T163414Z
LAST-MODIFIED:20260423T212854Z
UID:56059-1778877900-1778884200@vixenmchenry.com
SUMMARY:JOSH WOLF - 9PM PERFORMANCE
DESCRIPTION:JOSH WOLF\nFRIDAY\, MAY 15TH\nDOORS OPEN AT 8:45PM\nSHOWTIME: 9PM\nALL AGES SHOW\n** THE FLOOR TABLES – FIRST & SECOND ROW – WILL INCLUDE A POST-SHOW “MEET & GREET” WITH JOSH! \n \nJosh Wolf is a stand-up comedian\, writer\, actor\, and New York Times best-selling author whohas been entertaining audiences both on stage and on screen for over three decades. Wolf’s comedy roots trace back to Boston and Seattle\, eventually leading him to open for the likes o findustry pillars such as Larry the Cable Guy and Chelsea Handler to name a few. After years of touring\, writing\, and performing\, Josh has established himself as one of the most respected comedians in the industry\, continuing to headline sold-out theaters across North America\, Australia\, New Zealand\, and Europe. \nWolf gained widespread acclaim as a comedian and panelist on the hit show ‘Chelsea Lately’and as a mainstay performer on ‘After Lately’. He has since created\, written\, produced\, and hosted shows like ‘The Josh Wolf Show’ and ‘Josh Wolf’s Wonderful World of Weird’. As a podcaster\, Josh co-hosts the hit podcast “Hey Maaan” alongside his son\, Jacob Wolf. The podcast is one of the only father-son collaborations in comedy\, offering a unique perspective on family dynamics\, life on the road\, and trending topics. \nWolf has also written and acted on hit shows like ‘My Name is Earl’\, ‘All of Us’\, and ‘RaisingHope’. He was a regular panelist on the acclaimed comedy program ‘Lights Out with David Spade’ and has made numerous guest appearances on legendary programs such as ‘The Late Late Show with Craig Ferguson’. \nAs an author\, Wolf penned the 2013 New York Times best-seller ‘It Takes Balls: Dating Single Moms and Other Confessions from an Unprepared Single Dad’. Fresh off the heels of his “High On Life Tour”\, Wolf rolled out his most recent special\, “The Campfire Special” which blends music and comedy and features an array of special guests. The special marked his fourth special in the past six years\, further solidifying his prolific career and rabid fanbase. Wolf wrapped “Campfire Tour” hitting dozens of cities across the United Statesb efore embarking with a brand new hour in 2026 which sees him touring internationally through the end of the year. In addition to touring\, Wolf has a weekly residency at Jimmy Kimmel’s Comedy Club in Las Vegas where he performs every Sunday and Monday night to a packed house. \nLeveraging his strong presence on social media and YouTube\, Wolf has amassed over 7.4 million followers across platforms and more than 280 million views on his YouTube channel alone\, continuing to further expand his reach and deepen his connection with fans.
URL:https://vixenmchenry.com/event/josh-wolf-9pm-performance/
LOCATION:All Ages w/Guardian
CATEGORIES:Entertainment
ATTACH;FMTTYPE=image/png:https://vixenmchenry.com/wp-content/uploads/2025/12/JOSH-WOLF-2-web-1.png
END:VEVENT
BEGIN:VEVENT
DTSTART;TZID=America/Chicago:20260516T190000
DTEND;TZID=America/Chicago:20260516T223000
DTSTAMP:20260425T193111
CREATED:20260312T200020Z
LAST-MODIFIED:20260313T022149Z
UID:55923-1778958000-1778970600@vixenmchenry.com
SUMMARY:JAGGED LITTLE PILL - THE ALANIS TRIBUTE
DESCRIPTION:JAGGED LITTLE PILL – THE ALANIS TRIBUTE\nSATURDAY\, MAY 16TH\nDOORS OPEN AT 7:30PM\nALL AGES SHOW\nTICKETS: \nVIP Club Presale: Fri Mar 13 @ 10am\nPublic Sale: Sat Mar 14 @ 10am \n \n \n \n 
URL:https://vixenmchenry.com/event/jagged-little-pill/
LOCATION:All Ages w/Guardian
CATEGORIES:Entertainment
ATTACH;FMTTYPE=image/png:https://vixenmchenry.com/wp-content/uploads/2026/03/jagged-little-pill-web-1.png
END:VEVENT
BEGIN:VEVENT
DTSTART;TZID=America/Chicago:20260520T193000
DTEND;TZID=America/Chicago:20260520T220000
DTSTAMP:20260425T193111
CREATED:20260424T214600Z
LAST-MODIFIED:20260424T214600Z
UID:56102-1779305400-1779314400@vixenmchenry.com
SUMMARY:FREE STAND UP COMEDY NIGHT FEATURING: LUKAS MCRARY
DESCRIPTION:FREE STAND UP COMEDY NIGHT\nFEATURING: LUKAS MCCRARY\nYou may have seen him at Just for Laughs\, Netflix’s 20 Somethings\, SXSW\, Skankfest\nWednesday\, May 20th\nDoors Open at 7:30pm – Show starts at 8:00PM\nNO TICKETS NEEDED\n21+ Only\nTables are first come first served
URL:https://vixenmchenry.com/event/lukas-mcrary/
LOCATION:21+ w/ID
CATEGORIES:Entertainment
ATTACH;FMTTYPE=image/png:https://vixenmchenry.com/wp-content/uploads/2026/04/May-20.png
END:VEVENT
BEGIN:VEVENT
DTSTART;TZID=America/Chicago:20260521T190000
DTEND;TZID=America/Chicago:20260521T223000
DTSTAMP:20260425T193111
CREATED:20260303T090014Z
LAST-MODIFIED:20260303T190929Z
UID:55889-1779390000-1779402600@vixenmchenry.com
SUMMARY:THE ROCKETT MAFIA
DESCRIPTION:THE ROCKETT MAFIA\nSTARRING RIKKI ROCKETT\, DRUMMER OF POISON\nTHURSDAY\, MAY 21ST\nDOORS OPEN AT 7PM\nALL AGES SHOW\nTICKETS: VIP Club Presale: Wed March 4th @ 10am – Public Sale: Thurs March 5th @ 10am \n \nTHE ROCKETT MAFIA  is a group led by Poison drummer\, Rikki Rockett. It has been his vision to create a band steeped in 70’s style Rock ‘N’ Roll\, making each song\, original or not\, feel like they are all part of one record compilation taken to the stage!  On Guitar is Stacey Blades\, former L.A. Guns guitarist. Brandon Gibbs who fronted Devil City Angels and is part of Joel Hoekstra + Brandon Gibbs project\, From Nashville Tyson Leslie Keyboards\, voclas and Bassist and of course\, Rikki Rockett. \n \n \n 
URL:https://vixenmchenry.com/event/the-rockett-mafia/
LOCATION:All Ages w/Guardian
CATEGORIES:Entertainment
ATTACH;FMTTYPE=image/png:https://vixenmchenry.com/wp-content/uploads/2026/03/5-21-26-ROCKETT-MAFIA-WEB-.png
END:VEVENT
BEGIN:VEVENT
DTSTART;TZID=America/Chicago:20260527T193000
DTEND;TZID=America/Chicago:20260527T220000
DTSTAMP:20260425T193111
CREATED:20260424T214807Z
LAST-MODIFIED:20260424T214807Z
UID:56105-1779910200-1779919200@vixenmchenry.com
SUMMARY:FREE STAND UP COMEDY NIGHT FEATURING OLIVIA CARTER
DESCRIPTION:FREE STAND UP COMEDY NIGHT\nFEATURING: OLIVIA CARTER\nWednesday\, May 27th\nDoors Open at 7:30pm – Show starts at 8:00PM\nYou may have seen her on NETFLIX: Kevin Hart’s Funny AF\, The Tonight Show or Just for Laughs\nNO TICKETS NEEDED\n21+ Only\nTables are first come first served
URL:https://vixenmchenry.com/event/free-stand-up-comedy-night-featuring-olivia-carter/
LOCATION:21+ w/ID
CATEGORIES:Entertainment
ATTACH;FMTTYPE=image/png:https://vixenmchenry.com/wp-content/uploads/2026/04/May-27.png
END:VEVENT
BEGIN:VEVENT
DTSTART;TZID=America/Chicago:20260530T190000
DTEND;TZID=America/Chicago:20260530T223000
DTSTAMP:20260425T193111
CREATED:20260331T225656Z
LAST-MODIFIED:20260408T161310Z
UID:56003-1780167600-1780180200@vixenmchenry.com
SUMMARY:BIRKEN ROCKS - A TRIBUTE TO THE MUSIC OF LOLLAPALLOZA
DESCRIPTION:BIRKEN ROCKS – A TRIBUTE TO THE MUSIC OF LOLLAPALLOZA!\nSaturday\, May 30th\nDoors 7pm\nAll Ages Show\n\n\n\nThe line-up for this show includes tributes to: Blink 182\, Sabrina Carpenter\, Noah Kahan\, The Killers\, Cage the Elephant Chappell Roan\, Green Day\, Luke Combs\, Oasis\, Paramore\n\n\n\n\n 
URL:https://vixenmchenry.com/event/birken-rocks/
LOCATION:All Ages w/Guardian
CATEGORIES:Entertainment
ATTACH;FMTTYPE=image/png:https://vixenmchenry.com/wp-content/uploads/2026/03/5.30.26-Lolla-tribute-web-2.png
END:VEVENT
END:VCALENDAR