BEGIN:VCALENDAR
VERSION:2.0
PRODID:-//The Vixen in McHenry - ECPv6.15.20//NONSGML v1.0//EN
CALSCALE:GREGORIAN
METHOD:PUBLISH
X-WR-CALNAME:The Vixen in McHenry
X-ORIGINAL-URL:https://vixenmchenry.com
X-WR-CALDESC:Events for The Vixen in McHenry
REFRESH-INTERVAL;VALUE=DURATION:PT1H
X-Robots-Tag:noindex
X-PUBLISHED-TTL:PT1H
BEGIN:VTIMEZONE
TZID:America/Chicago
BEGIN:DAYLIGHT
TZOFFSETFROM:-0600
TZOFFSETTO:-0500
TZNAME:CDT
DTSTART:20250309T080000
END:DAYLIGHT
BEGIN:STANDARD
TZOFFSETFROM:-0500
TZOFFSETTO:-0600
TZNAME:CST
DTSTART:20251102T070000
END:STANDARD
BEGIN:DAYLIGHT
TZOFFSETFROM:-0600
TZOFFSETTO:-0500
TZNAME:CDT
DTSTART:20260308T080000
END:DAYLIGHT
BEGIN:STANDARD
TZOFFSETFROM:-0500
TZOFFSETTO:-0600
TZNAME:CST
DTSTART:20261101T070000
END:STANDARD
BEGIN:DAYLIGHT
TZOFFSETFROM:-0600
TZOFFSETTO:-0500
TZNAME:CDT
DTSTART:20270314T080000
END:DAYLIGHT
BEGIN:STANDARD
TZOFFSETFROM:-0500
TZOFFSETTO:-0600
TZNAME:CST
DTSTART:20271107T070000
END:STANDARD
END:VTIMEZONE
BEGIN:VEVENT
DTSTART;TZID=America/Chicago:20260605T190000
DTEND;TZID=America/Chicago:20260605T223000
DTSTAMP:20260425T205745
CREATED:20251216T155723Z
LAST-MODIFIED:20260217T185630Z
UID:55457-1780686000-1780698600@vixenmchenry.com
SUMMARY:STRUGGLE JENNINGS
DESCRIPTION:STRUGGLE JENNINGS\nFRIDAY\, JUNE 5TH\nDOORS OPEN AT 7PM\nALL AGES SHOW\nTICKETS: Pre-sale for VIP Club Members on Wed 12/17 @ 10am – Public Sale on Thurs 12/18 @ 10am \n \n\nThis Nashville recording artist has been hitting the charts with songs like “God We Need You Now”\, “Only God Know” – Ft Jelly Roll and “Outlaw Shit” – Ft Yelawolf and Waylon Jennings and “Real Ones” recorded with Bryan Martin. \n\n\n \n 
URL:https://vixenmchenry.com/event/struggle-jennings/
LOCATION:All Ages w/Guardian
CATEGORIES:Entertainment
ATTACH;FMTTYPE=image/png:https://vixenmchenry.com/wp-content/uploads/2025/12/STRUGGLE-JENNINGS-WEB-500-.png
END:VEVENT
BEGIN:VEVENT
DTSTART;TZID=America/Chicago:20260606T193000
DTEND;TZID=America/Chicago:20260606T223000
DTSTAMP:20260425T205745
CREATED:20260423T000030Z
LAST-MODIFIED:20260422T152549Z
UID:56077-1780774200-1780785000@vixenmchenry.com
SUMMARY:FAST TIMES W/ SPECIAL GUEST REFLEX
DESCRIPTION:FAST TIMES\nW/ SPECIAL GUEST: REFLEX (DURAN DURAN TRIBUTE)\nSATURDAY\, JUNE 6TH\nDOORS OPEN AT 7PM\nALL AGES SHOW\nTICKETS: \nVIP Club Member presale: Thurs Apr 23 @ 10am\nPublic Sale: Fri Apr 24 @ 10am \n \nFAST TIMES:  We put a little Rock in your Capezio Dance Shoes!
URL:https://vixenmchenry.com/event/fast-times-w-special-guest-reflex/
LOCATION:All Ages w/Guardian
CATEGORIES:Entertainment
ATTACH;FMTTYPE=image/png:https://vixenmchenry.com/wp-content/uploads/2026/04/6626-FAST-TIMES-Instagram-Post-45.png
END:VEVENT
BEGIN:VEVENT
DTSTART;TZID=America/Chicago:20260625T190000
DTEND;TZID=America/Chicago:20260625T223000
DTSTAMP:20260425T205745
CREATED:20260324T145511Z
LAST-MODIFIED:20260416T020723Z
UID:55966-1782414000-1782426600@vixenmchenry.com
SUMMARY:THE EXPENDABLES
DESCRIPTION:THE EXPENDABLES\nTHURSDAY\, JUNE 25TH\nDOORS OPEN AT 7PM\nALL AGES SHOW\n \nThe Expendables have proven anything but in their nearly 25-year career since starting out as aspirited party band in high school performing surf-rock covers for birthdays and familygatherings. A quarter-century later\, elementary school buddies Raul Bianchi\, Adam Peterson andGeoff Weers\, along with bassist Ryan DeMars\, who joined in 2000\, have forged a unique soundborn in the laid-back beach life in their hometown of Santa Cruz\, CA. The Expendables’infectious hybrid of ska\, surf-rock\, punk\, reggae and metal can be heard in their latest streamingtrack\, “Surfman Cometh\,” a spaghetti-western meets “Pipeline” twang that could easily form thesoundtrack to the latest Quentin Tarantino film. The song is the first release from the group’s newand improved Band Room\, their longtime rehearsal space in a 1\,100 square foot warehouse andformer wine cellar on Coral Street\, where Adam Patterson took charge of the final mix to greateffect. The band’s previous studio album of original material\, 2015’s Sand in the Sky\, wasfollowed by The Expendables’ second release featuring acoustic reworkings of past material\,Gone Raw\, 2019’s follow-up to 2012’s Gone Soft. The Expendables continue woodsheddinguntil they can get back out on the road. Their 2017 Moment EP\, which debuted at #1 on theBillboard Reggae chart\, showed the band starting to move into different musical directions\, a setfeaturing collaborations with reggae crooner HIRIE\, rapper Tech N9ne\, Eric Rachmany\, andMicah Peuschel \n \n \n 
URL:https://vixenmchenry.com/event/the-expendables/
LOCATION:All Ages w/Guardian
CATEGORIES:Entertainment
ATTACH;FMTTYPE=image/png:https://vixenmchenry.com/wp-content/uploads/2026/03/6-25-26-THE-EXPENDABLES-WE.png
END:VEVENT
END:VCALENDAR